BEGIN:VCALENDAR
VERSION:2.0
PRODID:-//DJG BW | Deutsch-Japanische Gesellschaft Baden-Württemberg e.V. - ECPv6.15.20//NONSGML v1.0//EN
CALSCALE:GREGORIAN
METHOD:PUBLISH
X-ORIGINAL-URL:https://japan-in-baden-wuerttemberg.de/djg2018
X-WR-CALDESC:Veranstaltungen für DJG BW | Deutsch-Japanische Gesellschaft Baden-Württemberg e.V.
REFRESH-INTERVAL;VALUE=DURATION:PT1H
X-Robots-Tag:noindex
X-PUBLISHED-TTL:PT1H
BEGIN:VTIMEZONE
TZID:Europe/Berlin
BEGIN:DAYLIGHT
TZOFFSETFROM:+0100
TZOFFSETTO:+0200
TZNAME:CEST
DTSTART:20220327T010000
END:DAYLIGHT
BEGIN:STANDARD
TZOFFSETFROM:+0200
TZOFFSETTO:+0100
TZNAME:CET
DTSTART:20221030T010000
END:STANDARD
BEGIN:DAYLIGHT
TZOFFSETFROM:+0100
TZOFFSETTO:+0200
TZNAME:CEST
DTSTART:20230326T010000
END:DAYLIGHT
BEGIN:STANDARD
TZOFFSETFROM:+0200
TZOFFSETTO:+0100
TZNAME:CET
DTSTART:20231029T010000
END:STANDARD
BEGIN:DAYLIGHT
TZOFFSETFROM:+0100
TZOFFSETTO:+0200
TZNAME:CEST
DTSTART:20240331T010000
END:DAYLIGHT
BEGIN:STANDARD
TZOFFSETFROM:+0200
TZOFFSETTO:+0100
TZNAME:CET
DTSTART:20241027T010000
END:STANDARD
END:VTIMEZONE
BEGIN:VEVENT
DTSTART;TZID=Europe/Berlin:20230428T190000
DTEND;TZID=Europe/Berlin:20230428T190000
DTSTAMP:20260423T012730
CREATED:20230401T085015Z
LAST-MODIFIED:20230401T164311Z
UID:4933-1682708400-1682708400@japan-in-baden-wuerttemberg.de
SUMMARY:Liebe\, Leid und Lügen - Mit KAN Compassion Art
DESCRIPTION:Wer?\nYasuko Kozaki: Gesang\nCornelis Witthoefft: Klavier\nSibylle Duhm-Arnaudov: Bild \nIn Kooperation mit dem Augustinum Stuttgart-Killesberg \nEintritt?\nKostenfrei für DJG BW Mitglieder\, 14 Euro für Gäste \nBeschreibung \nEs erwartet Sie eine außergewöhnliche Kombination aus Gesang\, Klaviermusik und Videopräsentation. Hören und sehen Sie literarische Texte deutscher Dichter z.B. von Kästner\, Heine und Hofmannsthal wie auch japanische Poeten\, z. B. Shuntaro Tanikawa\, Mari Yamanaka und Shuichi Kato – dies alles begleitet durch phantasievolle Video-Projektionen. In der filmischen Collage sehen Sie Highlights aus der japanischen und deutschen Kunstgeschichte. \nDie ästhetisch ansprechende Lied- und Video Performance wurde von KAN Compassion Arts entwickelt und produziert. Die Künstlerinnen Sibylle Duhm-Arnaudov und Yazuko Konzaki haben es sich zur Aufgabe gemacht\, tiefgreifende menschliche Themen mit unterschiedlichsten künstlerischen Mitteln aus der Perspektive verschiedener Kulturen zu beleuchten. \nIm Anschluss an die Performance laden wie Sie herzlich in unsere Galerie zur Ausstellungseröffnung der Bilder von Sibylle Duhm-Arnaudov ein. Die Veranstaltung findet in Kooperation mit dem Augustinum Stuttgart-Killesberg statt.
URL:https://japan-in-baden-wuerttemberg.de/djg2018/event/liebe-leid-und-luegen-mit-kan-compassion-art/
LOCATION:Theater des Augustinum Stuttgart-Killesberg\, Oskar-Schlemmer-Straße 5\, Stuttgart\, Baden-Württemberg\, 70191\, Deutschland
CATEGORIES:Performance
ATTACH;FMTTYPE=image/jpeg:https://japan-in-baden-wuerttemberg.de/djg2018/wp-content/uploads/2023/04/einladung_grafik_web-1.jpg
ORGANIZER;CN="DJG-BW":MAILTO:vorstand@djg-bw.de
END:VEVENT
END:VCALENDAR