BEGIN:VCALENDAR
VERSION:2.0
PRODID:-//DJG BW | Deutsch-Japanische Gesellschaft Baden-Württemberg e.V. - ECPv6.15.20//NONSGML v1.0//EN
CALSCALE:GREGORIAN
METHOD:PUBLISH
X-ORIGINAL-URL:https://japan-in-baden-wuerttemberg.de/djg2018
X-WR-CALDESC:Veranstaltungen für DJG BW | Deutsch-Japanische Gesellschaft Baden-Württemberg e.V.
REFRESH-INTERVAL;VALUE=DURATION:PT1H
X-Robots-Tag:noindex
X-PUBLISHED-TTL:PT1H
BEGIN:VTIMEZONE
TZID:Europe/Berlin
BEGIN:DAYLIGHT
TZOFFSETFROM:+0100
TZOFFSETTO:+0200
TZNAME:CEST
DTSTART:20240331T010000
END:DAYLIGHT
BEGIN:STANDARD
TZOFFSETFROM:+0200
TZOFFSETTO:+0100
TZNAME:CET
DTSTART:20241027T010000
END:STANDARD
BEGIN:DAYLIGHT
TZOFFSETFROM:+0100
TZOFFSETTO:+0200
TZNAME:CEST
DTSTART:20250330T010000
END:DAYLIGHT
BEGIN:STANDARD
TZOFFSETFROM:+0200
TZOFFSETTO:+0100
TZNAME:CET
DTSTART:20251026T010000
END:STANDARD
BEGIN:DAYLIGHT
TZOFFSETFROM:+0100
TZOFFSETTO:+0200
TZNAME:CEST
DTSTART:20260329T010000
END:DAYLIGHT
BEGIN:STANDARD
TZOFFSETFROM:+0200
TZOFFSETTO:+0100
TZNAME:CET
DTSTART:20261025T010000
END:STANDARD
END:VTIMEZONE
BEGIN:VEVENT
DTSTART;TZID=Europe/Berlin:20251017T190000
DTEND;TZID=Europe/Berlin:20251017T210000
DTSTAMP:20260422T000049
CREATED:20250731T211113Z
LAST-MODIFIED:20250731T211138Z
UID:12100-1760727600-1760734800@japan-in-baden-wuerttemberg.de
SUMMARY:Anime-Filmvorführung: NITABOH\, The Founder of Tsugaru Shamisen
DESCRIPTION:Anime-Filmvorführung: NITABOH\, The Founder of Tsugaru Shamisen\n仁太坊-津軽三味線始祖外聞\nNitabô\, Tsugaru Shamisen shisogaibun \nRegie: NISHIZAWA Akio (geb.1942)\, in Kooperation mit dem Japanischen Kulturinstitut Köln\nLaufzeit: 100 Minuten\nJapan 2004\, OmeU\, DVD \nWann?\nFreitag\, 17.10.2025 um 19:00 Uhr \nWo?\nBürgerzentrum Stuttgart-West\, OTTO-HERBERT-HAJEK-Saal\, Bebelstr. 22\, 70193 Stuttgart \nKosten?\nEintritt frei\, Spenden erbeten \nBildnachweis\n© WAO CORPORATION \nBeschreibung\nDie Klänge der Tsugaru-Shamisen\, der dreisaitigen japanischen Langhalslaute aus der Region Tsugaru in der nördlichen Präfektur Aomori\, erfreuen sich in Japan großer Beliebtheit. Der preisgekrönte Anime erzählt die Lebensgeschichte von Nitaboh\, dem Gründer der Tsugaru Shamisen-Musik. \nAkimoto Nitarô (Nitaboh) wird in eine arme Familie geboren\, sein Vater arbeitet als Bootsführer\, seine Mutter stirbt kurz nach seiner Geburt. Schon in jungen Jahren erleidet er Schicksalsschläge\, denn mit acht erblindet er und wird mit elf zum Vollwaisen. Auf sich gestellt lernt er eine goze\, eine blinde Straßensängerin und Shamisen-Spielerin kennen\, die mit ihrer Tochter umherzieht und Nitarô unterrichtet. Mit eisernem Willen und der Hilfe von verschiedenen Weggefährten gelingt es ihm\, einen neuen\, kraftvoll-perkussiven Shamisen-Stil zu entwickeln.
URL:https://japan-in-baden-wuerttemberg.de/djg2018/event/anime-filmvorfuehrung-nitaboh-the-founder-of-tsugaru-shamisen/
LOCATION:Otto-Herbert-Hakek-Saal im Bürgerzentrum\, Bebelstraße 22\, Stuttgart-West\, 70193
CATEGORIES:Vortrag
ATTACH;FMTTYPE=image/jpeg:https://japan-in-baden-wuerttemberg.de/djg2018/wp-content/uploads/2025/07/nitaboh_web.jpg
ORGANIZER;CN="DJG-BW":MAILTO:vorstand@djg-bw.de
END:VEVENT
END:VCALENDAR