BEGIN:VCALENDAR
VERSION:2.0
PRODID:-//DJG BW | Deutsch-Japanische Gesellschaft Baden-Württemberg e.V. - ECPv6.15.20//NONSGML v1.0//EN
CALSCALE:GREGORIAN
METHOD:PUBLISH
X-ORIGINAL-URL:https://japan-in-baden-wuerttemberg.de/djg2018
X-WR-CALDESC:Veranstaltungen für DJG BW | Deutsch-Japanische Gesellschaft Baden-Württemberg e.V.
REFRESH-INTERVAL;VALUE=DURATION:PT1H
X-Robots-Tag:noindex
X-PUBLISHED-TTL:PT1H
BEGIN:VTIMEZONE
TZID:Europe/Berlin
BEGIN:DAYLIGHT
TZOFFSETFROM:+0100
TZOFFSETTO:+0200
TZNAME:CEST
DTSTART:20200329T010000
END:DAYLIGHT
BEGIN:STANDARD
TZOFFSETFROM:+0200
TZOFFSETTO:+0100
TZNAME:CET
DTSTART:20201025T010000
END:STANDARD
BEGIN:DAYLIGHT
TZOFFSETFROM:+0100
TZOFFSETTO:+0200
TZNAME:CEST
DTSTART:20210328T010000
END:DAYLIGHT
BEGIN:STANDARD
TZOFFSETFROM:+0200
TZOFFSETTO:+0100
TZNAME:CET
DTSTART:20211031T010000
END:STANDARD
BEGIN:DAYLIGHT
TZOFFSETFROM:+0100
TZOFFSETTO:+0200
TZNAME:CEST
DTSTART:20220327T010000
END:DAYLIGHT
BEGIN:STANDARD
TZOFFSETFROM:+0200
TZOFFSETTO:+0100
TZNAME:CET
DTSTART:20221030T010000
END:STANDARD
END:VTIMEZONE
BEGIN:VEVENT
DTSTART;TZID=Europe/Berlin:20211206T165559
DTEND;TZID=Europe/Berlin:20211206T165559
DTSTAMP:20260424T140609
CREATED:20211026T095607Z
LAST-MODIFIED:20211206T165559Z
UID:2114-1638809759-1638809759@japan-in-baden-wuerttemberg.de
SUMMARY:ABSAGE: Stammtisch der DJG-BW (Dezember 2021)
DESCRIPTION:Sehr geehrte Damen und Herren\, \nAufgrund der aktuellen Lage müssen wir leider den Stammtisch am Dienstag\, den 7.12.2021\, absagen.
URL:https://japan-in-baden-wuerttemberg.de/djg2018/event/stammtisch-der-djg-bw-dezember-2021/
CATEGORIES:Stammtisch
ATTACH;FMTTYPE=image/jpeg:https://japan-in-baden-wuerttemberg.de/djg2018/wp-content/uploads/2018/12/stammtisch.jpg
END:VEVENT
END:VCALENDAR