BEGIN:VCALENDAR
VERSION:2.0
PRODID:-//DJG BW | Deutsch-Japanische Gesellschaft Baden-Württemberg e.V. - ECPv6.15.20//NONSGML v1.0//EN
CALSCALE:GREGORIAN
METHOD:PUBLISH
X-ORIGINAL-URL:https://japan-in-baden-wuerttemberg.de/djg2018
X-WR-CALDESC:Veranstaltungen für DJG BW | Deutsch-Japanische Gesellschaft Baden-Württemberg e.V.
REFRESH-INTERVAL;VALUE=DURATION:PT1H
X-Robots-Tag:noindex
X-PUBLISHED-TTL:PT1H
BEGIN:VTIMEZONE
TZID:Europe/Berlin
BEGIN:DAYLIGHT
TZOFFSETFROM:+0100
TZOFFSETTO:+0200
TZNAME:CEST
DTSTART:20200329T010000
END:DAYLIGHT
BEGIN:STANDARD
TZOFFSETFROM:+0200
TZOFFSETTO:+0100
TZNAME:CET
DTSTART:20201025T010000
END:STANDARD
BEGIN:DAYLIGHT
TZOFFSETFROM:+0100
TZOFFSETTO:+0200
TZNAME:CEST
DTSTART:20210328T010000
END:DAYLIGHT
BEGIN:STANDARD
TZOFFSETFROM:+0200
TZOFFSETTO:+0100
TZNAME:CET
DTSTART:20211031T010000
END:STANDARD
BEGIN:DAYLIGHT
TZOFFSETFROM:+0100
TZOFFSETTO:+0200
TZNAME:CEST
DTSTART:20220327T010000
END:DAYLIGHT
BEGIN:STANDARD
TZOFFSETFROM:+0200
TZOFFSETTO:+0100
TZNAME:CET
DTSTART:20221030T010000
END:STANDARD
END:VTIMEZONE
BEGIN:VEVENT
DTSTART;TZID=Europe/Berlin:20211005T190000
DTEND;TZID=Europe/Berlin:20211005T223000
DTSTAMP:20260424T180345
CREATED:20210921T183727Z
LAST-MODIFIED:20210921T183727Z
UID:1784-1633460400-1633473000@japan-in-baden-wuerttemberg.de
SUMMARY:Stammtisch der DJG-BW (Oktober 2021)
DESCRIPTION:Sehr geehrte Damen und Herren\, \nunser nächstes Stammtisch-Treffen findet am Dienstag\, den 05. Oktober 2021\, ab 19 Uhr im Brauerei-Wirtshaus Sanwald in der Silberburgstr. 157 nähe der S-Bahn-Haltestelle Feuersee statt.
URL:https://japan-in-baden-wuerttemberg.de/djg2018/event/stammtisch-der-djg-bw-oktober-2021/
LOCATION:Brauerei-Wirtshaus Sanwald\, Silberburgstr.157\, Stuttgart\, Baden-Württemberg\, 70178\, Deutschland
CATEGORIES:Stammtisch
ATTACH;FMTTYPE=image/jpeg:https://japan-in-baden-wuerttemberg.de/djg2018/wp-content/uploads/2018/12/stammtisch.jpg
ORGANIZER;CN="DJG-BW":MAILTO:vorstand@djg-bw.de
END:VEVENT
BEGIN:VEVENT
DTSTART;TZID=Europe/Berlin:20211008T190000
DTEND;TZID=Europe/Berlin:20211008T210000
DTSTAMP:20260424T180345
CREATED:20210927T190907Z
LAST-MODIFIED:20210927T191233Z
UID:1853-1633719600-1633726800@japan-in-baden-wuerttemberg.de
SUMMARY:Vortrag zum Thema „Fuchs und Fuchsglaube in Japan“ von Dr. Ulrich Pauly
DESCRIPTION:„Fuchs und Fuchsglaube in Japan“ \nFüchse werden in Japan als übernatürliche Wesen verehrt und gefürchtet. Sie dienen als Ernteorakel und sind ein Symbol der Fruchtbarkeit. Ihre übernatürlichen Kräfte können sie zum Nutzen oder zum Schaden der Menschen einsetzen\, auch menschliche Gestalt vermögen sie anzunehmen. So können sie sich\, unerkannt\, mit Menschen verbinden. Da die daraus hervorgehenden Fuchskinder nicht nach jedes Menschen Geschmack sind\, erfahren Sie hier\, wie man rechtzeitig erkennen kann\, ob Ihr Freund oder Ihre Freundin in Wirklichkeit ein Fuchs ist. \nDer Dia-Vortrag des Bonner Japanologen Dr. Ulrich Pauly führt Sie in 90 Minuten in das Leben der Füchse in der Natur und im Glauben der Japaner ein. \nWann:\nFreitag\, den 08. Oktober 2021\, ab 19 Uhr \nWo:\nIm SOPHIE KNOSP RAUM im Bürgerzentrum\nStuttgart-West (Bebelstr. 22\, 70193 Stuttgart) \nEintritt:\nKostenlos\, Spenden sind erbeten. \nFoto: Ulrich Pauly 
URL:https://japan-in-baden-wuerttemberg.de/djg2018/event/vortrag-zum-thema-fuchs-und-fuchsglaube-in-japan-von-dr-ulrich-pauly/
LOCATION:Bürgerzentrum Stuttgart-West\, Bebelstrasse 22\, Stuttgart\, 70193\, Deutschland
CATEGORIES:Vortrag
ATTACH;FMTTYPE=image/jpeg:https://japan-in-baden-wuerttemberg.de/djg2018/wp-content/uploads/2021/09/Fuchstanz-Japan-Pauly_21.jpg
END:VEVENT
END:VCALENDAR