BEGIN:VCALENDAR
VERSION:2.0
PRODID:-//DJG BW | Deutsch-Japanische Gesellschaft Baden-Württemberg e.V. - ECPv6.15.20//NONSGML v1.0//EN
CALSCALE:GREGORIAN
METHOD:PUBLISH
X-WR-CALNAME:DJG BW | Deutsch-Japanische Gesellschaft Baden-Württemberg e.V.
X-ORIGINAL-URL:https://japan-in-baden-wuerttemberg.de/djg2018
X-WR-CALDESC:Veranstaltungen für DJG BW | Deutsch-Japanische Gesellschaft Baden-Württemberg e.V.
REFRESH-INTERVAL;VALUE=DURATION:PT1H
X-Robots-Tag:noindex
X-PUBLISHED-TTL:PT1H
BEGIN:VTIMEZONE
TZID:Europe/Berlin
BEGIN:DAYLIGHT
TZOFFSETFROM:+0100
TZOFFSETTO:+0200
TZNAME:CEST
DTSTART:20180325T010000
END:DAYLIGHT
BEGIN:STANDARD
TZOFFSETFROM:+0200
TZOFFSETTO:+0100
TZNAME:CET
DTSTART:20181028T010000
END:STANDARD
BEGIN:DAYLIGHT
TZOFFSETFROM:+0100
TZOFFSETTO:+0200
TZNAME:CEST
DTSTART:20190331T010000
END:DAYLIGHT
BEGIN:STANDARD
TZOFFSETFROM:+0200
TZOFFSETTO:+0100
TZNAME:CET
DTSTART:20191027T010000
END:STANDARD
BEGIN:DAYLIGHT
TZOFFSETFROM:+0100
TZOFFSETTO:+0200
TZNAME:CEST
DTSTART:20200329T010000
END:DAYLIGHT
BEGIN:STANDARD
TZOFFSETFROM:+0200
TZOFFSETTO:+0100
TZNAME:CET
DTSTART:20201025T010000
END:STANDARD
END:VTIMEZONE
BEGIN:VEVENT
DTSTART;TZID=Europe/Berlin:20191203T190000
DTEND;TZID=Europe/Berlin:20191203T220000
DTSTAMP:20260423T041838
CREATED:20190706T081033Z
LAST-MODIFIED:20190706T081033Z
UID:1004-1575399600-1575410400@japan-in-baden-wuerttemberg.de
SUMMARY:Stammtisch der DJG-BW (Dezember 2019)
DESCRIPTION:Sehr geehrte Damen und Herren\, \nunser nächstes Stammtisch-Treffen findet am Dienstag\, den 03. Dezember 2019\, ab 19 Uhr im Brauerei-Wirtshaus Sanwald in der Silberburgstr. 157 nähe der S-Bahn-Haltestelle Feuersee statt.
URL:https://japan-in-baden-wuerttemberg.de/djg2018/event/stammtisch-der-djg-bw-dezember-2019/
LOCATION:Brauerei-Wirtshaus Sanwald\, Silberburgstr.157\, Stuttgart\, Baden-Württemberg\, 70178\, Deutschland
CATEGORIES:Stammtisch
ATTACH;FMTTYPE=image/jpeg:https://japan-in-baden-wuerttemberg.de/djg2018/wp-content/uploads/2018/12/stammtisch.jpg
ORGANIZER;CN="DJG-BW":MAILTO:vorstand@djg-bw.de
END:VEVENT
BEGIN:VEVENT
DTSTART;TZID=Europe/Berlin:20191205T193000
DTEND;TZID=Europe/Berlin:20191205T193000
DTSTAMP:20260423T041838
CREATED:20191127T205439Z
LAST-MODIFIED:20191127T211448Z
UID:1117-1575574200-1575574200@japan-in-baden-wuerttemberg.de
SUMMARY:Lesung und Gespräch zu "Als der Kaiser ein Gott war" von Julie Otsuka
DESCRIPTION:Foto: © robert bessoir \nModeration: Katharina Borchardt\nDeutsche Lesung: Marit Beyer \n„Ich bin der schlitzäugige Heckenschütze. / Ich bin der Saboteur im Gebüsch. / Ich bin der Fremde vor der Tür. / Ich bin der Verräter in Ihrem eigenen Hinterhof. / Ich bin Ihr Hausbursche. / Ich bin Ihr Koch. / Ich bin Ihr Gärtner. / Und ich habe jahrelang friedlich neben Ihnen gelebt“ – Julie Otsuka \nIn ihrem Roman „Wovon wir träumten“ – ein internationaler Erfolg – arbeitete die 1962 in Palo Alto geborene Autorin Julie Otsuka die Geschichte japanischer Einwanderer in den USA literarisch auf. „Es war ein Blick in den Abgrund\, in ein Grab von zerstörten Illusionen und zerbrochenen Wünschen\, aus deren Kompost zuletzt jene Generation selbstbestimmter und selbstbewusster Amerika-Japaner entwuchs\, der Otsuka selber angehört“\, schrieb Andreas Breitenstein in der NZZ. Nun liegt das von Irma Wehrli ins Deutsche übersetzte Debüt von Julie Otsuka vor: „Als der Kaiser ein Gott war“ setzt im Jahre 1942 an\, in Berkeley\, Kalifornien: Am Postamt liest die Mutter den Evakuierungsbefehl\, geht nach Hause und beginnt die wichtigsten Habseligkeiten der Familie zusammenzupacken. Wie Zehntausende weitere japanischstämmige Amerikaner*innen in den Westküstenstaaten betrachtet man sie als Sicherheitsrisiko\, seit die USA mit Japan im Krieg stehen. Schnörkellos\, präzise und aufwühlend erzählt Julie Otsuka in ihrem Roman von der wachsenden antijapanischen Stimmung unter den bislang so freundlichen Nachbarn\, der Deportation in ein Internierungslager im Wüstenhochland von Utah\, den prekären Verhältnissen in den Baracken hinter Stacheldraht\, von Angst und Einsamkeit – und schließlich von der Rückkehr der Familie\, für die nichts mehr so sein wird wie zuvor. \nIn Zusammenarbeit mit dem Deutsch-Amerikanischen Zentrum und der Deutsch-Japanischen Gesellschaft Baden-Württemberg \nEintritt: Euro 10\,-/ 8\,-/ 5\,-
URL:https://japan-in-baden-wuerttemberg.de/djg2018/event/lesung-und-gespraech-zu-als-der-kaiser-ein-gott-war-von-julie-otsuka/
LOCATION:Literaturhaus Stuttgart\, Breitscheidstraße 4\, Stuttgart\, Baden-Württemberg\, 70174\, Deutschland
CATEGORIES:Lesung & Gespräch
ATTACH;FMTTYPE=image/jpeg:https://japan-in-baden-wuerttemberg.de/djg2018/wp-content/uploads/2019/11/julie_otsuka_web.jpg
ORGANIZER;CN="DJG-BW":MAILTO:vorstand@djg-bw.de
END:VEVENT
BEGIN:VEVENT
DTSTART;TZID=Europe/Berlin:20191213T190000
DTEND;TZID=Europe/Berlin:20191213T190000
DTSTAMP:20260423T041838
CREATED:20191127T211247Z
LAST-MODIFIED:20191127T211247Z
UID:1122-1576263600-1576263600@japan-in-baden-wuerttemberg.de
SUMMARY:Schlangenkult in Japan - Vortrag von Dr. Ulrich Pauly
DESCRIPTION:Fotos: © Ulrich Pauly \nZu den ältesten Elementen des japanischen Volksglaubens gehört der Schlangenkult. Von einem Symbol der Wiedergeburt entwickelte sich die Schlange im Laufe der Zeit zu einer Verkörperung der Berggottheit\, zu einer Regen und Fruchtbarkeit garantierenden Schutzgottheit der Felder sowie zu einer Schutzgottheit des Dorfes\, die als solche auch das Glück und die Gesundheit der Menschen garantiert. Der Vortrag skizziert diesen Wandel und zeigt einige der heute noch gefeierten Schlangenfeste und -Rituale Japans. \nDr. Ulrich Pauly\nStudium u.a. der Japanologie\, Vergleichenden Religionswissenschaft sowie der Volks- und Völkerkunde in Bonn\, Wien und Kyoto. Nach der Promotion Wissenschaftlicher Referent der OAG (Gesellschaft für Natur- und Völkerkunde Ostasiens) in Tokyo. Danach Freier Lektor in Bonn. Veröffentlichungen zur Geschichte\, Religion und Volkskultur Asiens\, insbesondere Japans. \nWann: Freitag\, 13.12.2019\, 19:00 Uhr\,\nWo: Bürgerzentrum Stuttgart-West\, Bebelstr. 22\, 70193 Stuttgart \nEintritt frei – Spenden erbeten
URL:https://japan-in-baden-wuerttemberg.de/djg2018/event/schlangenkult-in-japan-vortrag-von-dr-ulrich-pauly/
LOCATION:Bürgerzentrum Stuttgart-West\, Bebelstrasse 22\, Stuttgart\, 70193\, Deutschland
CATEGORIES:Vortrag
ATTACH;FMTTYPE=image/jpeg:https://japan-in-baden-wuerttemberg.de/djg2018/wp-content/uploads/2019/11/schlangenkult-web-1.jpg
ORGANIZER;CN="DJG-BW":MAILTO:vorstand@djg-bw.de
END:VEVENT
END:VCALENDAR